View In:
ArcGIS JavaScript
ArcGIS Online map viewer
Google Earth
ArcMap
View Footprint In:
ArcGIS Online map viewer
Service Description: Raster image of locations of Lead Shot Remediation Project
Name: FormerNationalCapitalSkeetTrapClub/FormerRemediationArea
Description: Raster image of locations of Lead Shot Remediation Project
Single Fused Map Cache: false
Extent:
XMin: -77.27885331725656
YMin: 39.130273960977284
XMax: -77.27230131725656
YMax: 39.13364096097728
Spatial Reference: 4269
(4269)
Initial Extent:
XMin: -77.27885331725656
YMin: 39.130273960977284
XMax: -77.27230131725656
YMax: 39.13364096097728
Spatial Reference: 4269
(4269)
Full Extent:
XMin: -77.27885331725656
YMin: 39.130273960977284
XMax: -77.27230131725656
YMax: 39.13364096097728
Spatial Reference: 4269
(4269)
Pixel Size X: 6.999999999999172E-6
Pixel Size Y: 6.999999999994248E-6
Band Count: 3
Pixel Type: U16
RasterFunction Infos: N/A
Mensuration Capabilities: Basic
Has Histograms: true
Has Colormap: false
Has Multi Dimensions : false
Rendering Rule:
Min Scale: 0
Max Scale: 0
Copyright Text: MDE
Service Data Type: esriImageServiceDataTypeGeneric
Min Values: 28, 28, 28
Max Values: 255, 255, 255
Mean Values: 251.68486820892014, 251.68486820892014, 251.68486820892014
Standard Deviation Values: 19.558510190910624, 19.558510190910624, 19.558510190910624
Object ID Field:
Fields:
None
Default Mosaic Method: Center
Allowed Mosaic Methods:
SortField:
SortValue: null
Mosaic Operator: First
Default Compression Quality: 75
Default Resampling Method: Bilinear
Max Record Count: null
Max Image Height: 4100
Max Image Width: 15000
Max Download Image Count: null
Max Mosaic Image Count: null
Allow Raster Function: true
Allow Compute TiePoints: false
Supports Statistics: false
Supports Advanced Queries: false
Use StandardizedQueries: true
Raster Type Infos:
Name: Raster Dataset
Description: Supports all ArcGIS Raster Datasets
Help:
Has Raster Attribute Table: false
Edit Fields Info: null
Ownership Based AccessControl For Rasters: null
Child Resources:
Info
Histograms
Key Properties
Legend
MultiDimensionalInfo
rasterFunctionInfos
Supported Operations:
Export Image
Identify
Measure
Compute Histograms
Compute Statistics Histograms
Get Samples
Compute Class Statistics