{
 "currentVersion": 10.41,
 "serviceDescription": "Raster image of locations of Lead Shot Remediation Project",
 "name": "FormerNationalCapitalSkeetTrapClub/FormerRemediationArea",
 "description": "Raster image of locations of Lead Shot Remediation Project",
 "extent": {
  "xmin": -77.27885331725656,
  "ymin": 39.130273960977284,
  "xmax": -77.27230131725656,
  "ymax": 39.13364096097728,
  "spatialReference": {
   "wkid": 4269,
   "latestWkid": 4269
  }
 },
 "initialExtent": {
  "xmin": -77.27885331725656,
  "ymin": 39.130273960977284,
  "xmax": -77.27230131725656,
  "ymax": 39.13364096097728,
  "spatialReference": {
   "wkid": 4269,
   "latestWkid": 4269
  }
 },
 "fullExtent": {
  "xmin": -77.27885331725656,
  "ymin": 39.130273960977284,
  "xmax": -77.27230131725656,
  "ymax": 39.13364096097728,
  "spatialReference": {
   "wkid": 4269,
   "latestWkid": 4269
  }
 },
 "pixelSizeX": 6.999999999999172E-6,
 "pixelSizeY": 6.999999999994248E-6,
 "bandCount": 3,
 "pixelType": "U16",
 "minPixelSize": 0,
 "maxPixelSize": 0,
 "copyrightText": "MDE",
 "serviceDataType": "esriImageServiceDataTypeGeneric",
 "minValues": [
  28,
  28,
  28
 ],
 "maxValues": [
  255,
  255,
  255
 ],
 "meanValues": [
  251.68486820892014,
  251.68486820892014,
  251.68486820892014
 ],
 "stdvValues": [
  19.558510190910624,
  19.558510190910624,
  19.558510190910624
 ],
 "objectIdField": "",
 "fields": [],
 "capabilities": "Mensuration,Image,Metadata",
 "defaultMosaicMethod": "Center",
 "allowedMosaicMethods": "",
 "sortField": "",
 "sortValue": null,
 "mosaicOperator": "First",
 "defaultCompressionQuality": 75,
 "defaultResamplingMethod": "Bilinear",
 "maxImageHeight": 4100,
 "maxImageWidth": 15000,
 "allowRasterFunction": true,
 "rasterFunctionInfos": [],
 "rasterTypeInfos": [
  {
   "name": "Raster Dataset",
   "description": "Supports all ArcGIS Raster Datasets",
   "help": ""
  }
 ],
 "mensurationCapabilities": "Basic",
 "hasHistograms": true,
 "hasColormap": false,
 "hasRasterAttributeTable": false,
 "minScale": 0,
 "maxScale": 0,
 "exportTilesAllowed": false,
 "hasMultidimensions": false,
 "supportsStatistics": false,
 "supportsAdvancedQueries": false,
 "editFieldsInfo": null,
 "ownershipBasedAccessControlForRasters": null,
 "allowComputeTiePoints": false,
 "useStandardizedQueries": true,
 "advancedQueryCapabilities": {
  "useStandardizedQueries": true,
  "supportsStatistics": false,
  "supportsOrderBy": false,
  "supportsDistinct": false,
  "supportsPagination": false
 },
 "spatialReference": {
  "wkid": 4269,
  "latestWkid": 4269
 }
}
